BEGIN:VCALENDAR
VERSION:2.0
PRODID:-//hacksw/handcal//NONSGML v1.0//EN
CALSCALE:GREGORIAN
BEGIN:VEVENT
LOCATION:
DESCRIPTION:
DTSTART:20150424T103000Z
DTEND:20150424T120000Z
SUMMARY:El futuro de la arquitectura y urbanismo en Barcelona según CiU
URL;VALUE=URI:https://arquitectes.cat/ca/node/21101
DTSTAMP:20260426T051121Z
UID:69ed825973d07
END:VEVENT
END:VCALENDAR