BEGIN:VCALENDAR
VERSION:2.0
PRODID:-//hacksw/handcal//NONSGML v1.0//EN
CALSCALE:GREGORIAN
BEGIN:VEVENT
LOCATION:
DESCRIPTION:
DTSTART:20150427T080000Z
DTEND:20150524T080000Z
SUMMARY:Exposició "Projecte Final / Trajectòria"
URL;VALUE=URI:https://arquitectes.cat/ca/content/exposici%C3%B3-projecte-final-traject%C3%B2ria
DTSTAMP:20260425T005814Z
UID:69ebf586c302c
END:VEVENT
END:VCALENDAR