BEGIN:VCALENDAR
VERSION:2.0
PRODID:-//hacksw/handcal//NONSGML v1.0//EN
CALSCALE:GREGORIAN
BEGIN:VEVENT
LOCATION:
DESCRIPTION:
DTSTART:20150427T080000Z
DTEND:20150524T080000Z
SUMMARY:Exposición "Proyecto Final / Trayectoria"
URL;VALUE=URI:https://arquitectes.cat/ca/node/21090
DTSTAMP:20260426T051201Z
UID:69ed82814b5a1
END:VEVENT
END:VCALENDAR