BEGIN:VCALENDAR
VERSION:2.0
PRODID:-//hacksw/handcal//NONSGML v1.0//EN
CALSCALE:GREGORIAN
BEGIN:VEVENT
LOCATION:
DESCRIPTION:
DTSTART:20150514T173000Z
DTEND:20150604T180000Z
SUMMARY:Cadaval & Solà-Morales y "600 totxanes grogues"
URL;VALUE=URI:https://arquitectes.cat/ca/node/21018
DTSTAMP:20260422T122351Z
UID:69e8a1b758ed6
END:VEVENT
END:VCALENDAR