BEGIN:VCALENDAR
VERSION:2.0
PRODID:-//hacksw/handcal//NONSGML v1.0//EN
CALSCALE:GREGORIAN
BEGIN:VEVENT
LOCATION:
DESCRIPTION:
DTSTART:20150520T101500Z
DTEND:20150520T101500Z
SUMMARY:Trobada amb els alcaldables. Xavier Montfort de Compromís d'Esquerres per Figueres
URL;VALUE=URI:https://arquitectes.cat/ca/content/trobada-amb-els-alcaldables-xavier-montfort-de-comprom%C3%ADs-desquerres-figueres
DTSTAMP:20260426T033423Z
UID:69ed6b9f9ae48
END:VEVENT
END:VCALENDAR