BEGIN:VCALENDAR
VERSION:2.0
PRODID:-//hacksw/handcal//NONSGML v1.0//EN
CALSCALE:GREGORIAN
BEGIN:VEVENT
LOCATION:
DESCRIPTION:
DTSTART:20150602T214500Z
DTEND:20150602T214500Z
SUMMARY:Vivienda y salud: la pobreza energética
URL;VALUE=URI:https://arquitectes.cat/ca/node/20906
DTSTAMP:20260419T214446Z
UID:69e530ae591bc
END:VEVENT
END:VCALENDAR