BEGIN:VCALENDAR
VERSION:2.0
PRODID:-//hacksw/handcal//NONSGML v1.0//EN
CALSCALE:GREGORIAN
BEGIN:VEVENT
LOCATION:
DESCRIPTION:
DTSTART:20150613T083000Z
DTEND:20150613T083000Z
SUMMARY:Concurs Separadors Firantoni 2015\, organitzat per l'AJAC
URL;VALUE=URI:https://arquitectes.cat/ca/content/concurs-separadors-firantoni-2015-organitzat-lajac
DTSTAMP:20260419T145025Z
UID:69e4cf91ef970
END:VEVENT
END:VCALENDAR