BEGIN:VCALENDAR
VERSION:2.0
PRODID:-//hacksw/handcal//NONSGML v1.0//EN
CALSCALE:GREGORIAN
BEGIN:VEVENT
LOCATION:
DESCRIPTION:
DTSTART:20150715T173000Z
DTEND:20150715T173000Z
SUMMARY:Pere Català i Pic\, 100 anys de fotografia
URL;VALUE=URI:https://arquitectes.cat/ca/content/pere-catal%C3%A0-i-pic-100-anys-de-fotografia
DTSTAMP:20260420T060039Z
UID:69e5a4e72b95b
END:VEVENT
END:VCALENDAR