BEGIN:VCALENDAR
VERSION:2.0
PRODID:-//hacksw/handcal//NONSGML v1.0//EN
CALSCALE:GREGORIAN
BEGIN:VEVENT
LOCATION:
DESCRIPTION:
DTSTART:20150701T170000Z
DTEND:20150701T170000Z
SUMMARY:Presentació del llibre "Invenciones. Nueva York vs Rem Koolhaas\, Bernard Tschumi\, Piranesi"
URL;VALUE=URI:https://arquitectes.cat/ca/content/presentaci%C3%B3-del-llibre-invenciones-nueva-york-vs-rem-koolhaas-bernard-tschumi-piranesi
DTSTAMP:20260420T010404Z
UID:69e55f6455b2f
END:VEVENT
END:VCALENDAR