BEGIN:VCALENDAR
VERSION:2.0
PRODID:-//hacksw/handcal//NONSGML v1.0//EN
CALSCALE:GREGORIAN
BEGIN:VEVENT
LOCATION:
DESCRIPTION:
DTSTART:20150717T170000Z
DTEND:20150717T170000Z
SUMMARY:Encuentro de Arquitectos de Osona 2015
URL;VALUE=URI:https://arquitectes.cat/ca/node/20796
DTSTAMP:20260425T200725Z
UID:69ed02dd82139
END:VEVENT
END:VCALENDAR