BEGIN:VCALENDAR
VERSION:2.0
PRODID:-//hacksw/handcal//NONSGML v1.0//EN
CALSCALE:GREGORIAN
BEGIN:VEVENT
LOCATION:
DESCRIPTION:
DTSTART:20150721T160000Z
DTEND:20150912T180000Z
SUMMARY:50 anys d'arquitectura. 1965-2015
URL;VALUE=URI:https://arquitectes.cat/ca/content/50-anys-darquitectura-1965-2015
DTSTAMP:20260420T053145Z
UID:69e59e21aebc1
END:VEVENT
END:VCALENDAR