BEGIN:VCALENDAR
VERSION:2.0
PRODID:-//hacksw/handcal//NONSGML v1.0//EN
CALSCALE:GREGORIAN
BEGIN:VEVENT
LOCATION:
DESCRIPTION:
DTSTART:20150805T080000Z
DTEND:20150901T080000Z
SUMMARY:La 1a Mostra d’Arquitectura de Barcelona al COAC-Osona
URL;VALUE=URI:https://arquitectes.cat/ca/content/la-1a-mostra-d%E2%80%99arquitectura-de-barcelona-al-coac-osona
DTSTAMP:20260422T124522Z
UID:69e8a6c28b642
END:VEVENT
END:VCALENDAR