BEGIN:VCALENDAR
VERSION:2.0
PRODID:-//hacksw/handcal//NONSGML v1.0//EN
CALSCALE:GREGORIAN
BEGIN:VEVENT
LOCATION:
DESCRIPTION:
DTSTART:20151001T170000Z
DTEND:20151001T170000Z
SUMMARY:Presentación del libro "Pasión por la arquitectura"
URL;VALUE=URI:https://arquitectes.cat/ca/node/20730
DTSTAMP:20260420T053243Z
UID:69e59e5bb241f
END:VEVENT
END:VCALENDAR