BEGIN:VCALENDAR
VERSION:2.0
PRODID:-//hacksw/handcal//NONSGML v1.0//EN
CALSCALE:GREGORIAN
BEGIN:VEVENT
LOCATION:
DESCRIPTION:
DTSTART:20150916T080000Z
DTEND:20150916T080000Z
SUMMARY:Dimecres Tecnològic: Facility Management i BIM
URL;VALUE=URI:https://arquitectes.cat/ca/content/dimecres-tecnol%C3%B2gic-facility-management-i-bim
DTSTAMP:20260422T124023Z
UID:69e8a5971cecd
END:VEVENT
END:VCALENDAR