BEGIN:VCALENDAR
VERSION:2.0
PRODID:-//hacksw/handcal//NONSGML v1.0//EN
CALSCALE:GREGORIAN
BEGIN:VEVENT
LOCATION:Barcelona
DESCRIPTION:
DTSTART:20151013T170000Z
DTEND:20151013T170000Z
SUMMARY:Urbanisme comparat. Argentina
URL;VALUE=URI:https://arquitectes.cat/ca/content/urbanisme-comparat-argentina
DTSTAMP:20260419T194255Z
UID:69e5141f6605a
END:VEVENT
END:VCALENDAR