BEGIN:VCALENDAR
VERSION:2.0
PRODID:-//hacksw/handcal//NONSGML v1.0//EN
CALSCALE:GREGORIAN
BEGIN:VEVENT
LOCATION:Barcelona
DESCRIPTION:
DTSTART:20151024T080000Z
DTEND:20151024T080000Z
SUMMARY:Pedalades del PDU Metropolità
URL;VALUE=URI:https://arquitectes.cat/ca/content/pedalades-del-pdu-metropolit%C3%A0
DTSTAMP:20260422T124318Z
UID:69e8a646ec8ea
END:VEVENT
END:VCALENDAR