BEGIN:VCALENDAR
VERSION:2.0
PRODID:-//hacksw/handcal//NONSGML v1.0//EN
CALSCALE:GREGORIAN
BEGIN:VEVENT
LOCATION:Barcelona
DESCRIPTION:
DTSTART:20150507T130000Z
DTEND:20150507T130000Z
SUMMARY:Conferència dels cinc estudis finalistes del Premi Mies van der Rohe 
URL;VALUE=URI:https://arquitectes.cat/ca/content/confer%C3%A8ncia-dels-cinc-estudis-finalistes-del-premi-mies-van-der-rohe
DTSTAMP:20260419T210326Z
UID:69e526fe9c623
END:VEVENT
END:VCALENDAR