BEGIN:VCALENDAR
VERSION:2.0
PRODID:-//hacksw/handcal//NONSGML v1.0//EN
CALSCALE:GREGORIAN
BEGIN:VEVENT
LOCATION:Barcelona
DESCRIPTION:
DTSTART:20150702T170000Z
DTEND:20150702T170000Z
SUMMARY:"Bodeda - Enological Metabolism". Opening Lecture by Josep Lluis Mateo
URL;VALUE=URI:https://arquitectes.cat/ca/node/18336
DTSTAMP:20260420T091559Z
UID:69e5d2afc849c
END:VEVENT
END:VCALENDAR