BEGIN:VCALENDAR
VERSION:2.0
PRODID:-//hacksw/handcal//NONSGML v1.0//EN
CALSCALE:GREGORIAN
BEGIN:VEVENT
LOCATION:Barcelona
DESCRIPTION:
DTSTART:20150802T090000Z
DTEND:20150802T090000Z
SUMMARY:Fundació Joan Miró: A Mediterranean Building
URL;VALUE=URI:https://arquitectes.cat/ca/node/18173
DTSTAMP:20260423T015102Z
UID:69e95ee6decbe
END:VEVENT
END:VCALENDAR