BEGIN:VCALENDAR
VERSION:2.0
PRODID:-//hacksw/handcal//NONSGML v1.0//EN
CALSCALE:GREGORIAN
BEGIN:VEVENT
LOCATION:Barcelona
DESCRIPTION:
DTSTART:20150905T160000Z
DTEND:20150913T200000Z
SUMMARY:Exposició "50 anys de Bellvitge"
URL;VALUE=URI:https://arquitectes.cat/ca/content/exposici%C3%B3-50-anys-de-bellvitge
DTSTAMP:20260419T214951Z
UID:69e531df49e2c
END:VEVENT
END:VCALENDAR