BEGIN:VCALENDAR
VERSION:2.0
PRODID:-//hacksw/handcal//NONSGML v1.0//EN
CALSCALE:GREGORIAN
BEGIN:VEVENT
LOCATION:Barcelona
DESCRIPTION:
DTSTART:20150916T180000Z
DTEND:20150916T180000Z
SUMMARY:Presentació de la Xemeneia Cocktail de Carlos Ferrater. Debat Milà-Tusquets-Ferrater. 
URL;VALUE=URI:https://arquitectes.cat/ca/content/presentaci%C3%B3-de-la-xemeneia-cocktail-de-carlos-ferrater-debat-mil%C3%A0-tusquets-ferrater
DTSTAMP:20260419T142901Z
UID:69e4ca8deee22
END:VEVENT
END:VCALENDAR