BEGIN:VCALENDAR
VERSION:2.0
PRODID:-//hacksw/handcal//NONSGML v1.0//EN
CALSCALE:GREGORIAN
BEGIN:VEVENT
LOCATION:Barcelona
DESCRIPTION:
DTSTART:20150912T160000Z
DTEND:20150912T160000Z
SUMMARY:Conferencia de Michel Gondry y presentación de los resultados de Crade et Vivant
URL;VALUE=URI:https://arquitectes.cat/ca/node/18147
DTSTAMP:20260419T233021Z
UID:69e5496dd3603
END:VEVENT
END:VCALENDAR