BEGIN:VCALENDAR
VERSION:2.0
PRODID:-//hacksw/handcal//NONSGML v1.0//EN
CALSCALE:GREGORIAN
BEGIN:VEVENT
LOCATION:Barcelona
DESCRIPTION:
DTSTART:20151006T080000Z
DTEND:20151006T080000Z
SUMMARY:Site visit to the Catalan Institute of Economists HQ
URL;VALUE=URI:https://arquitectes.cat/ca/node/17951
DTSTAMP:20260419T223444Z
UID:69e53c6467337
END:VEVENT
END:VCALENDAR