BEGIN:VCALENDAR
VERSION:2.0
PRODID:-//hacksw/handcal//NONSGML v1.0//EN
CALSCALE:GREGORIAN
BEGIN:VEVENT
LOCATION:Girona
DESCRIPTION:
DTSTART:20151120T104500Z
DTEND:20151120T104500Z
SUMMARY:MARQ: conferència de Júlia Shultz-Dornburg
URL;VALUE=URI:https://arquitectes.cat/ca/content/marq-confer%C3%A8ncia-de-j%C3%BAlia-shultz-dornburg
DTSTAMP:20260419T230242Z
UID:69e542f2c090b
END:VEVENT
END:VCALENDAR